BEGIN:VCALENDAR
VERSION:2.0
PRODID:-//Mukilteo Kiwanis - ECPv6.15.20//NONSGML v1.0//EN
CALSCALE:GREGORIAN
METHOD:PUBLISH
X-WR-CALNAME:Mukilteo Kiwanis
X-ORIGINAL-URL:https://mukilteokiwanis.org
X-WR-CALDESC:Events for Mukilteo Kiwanis
REFRESH-INTERVAL;VALUE=DURATION:PT1H
X-Robots-Tag:noindex
X-PUBLISHED-TTL:PT1H
BEGIN:VTIMEZONE
TZID:America/Los_Angeles
BEGIN:DAYLIGHT
TZOFFSETFROM:-0800
TZOFFSETTO:-0700
TZNAME:PDT
DTSTART:20250309T100000
END:DAYLIGHT
BEGIN:STANDARD
TZOFFSETFROM:-0700
TZOFFSETTO:-0800
TZNAME:PST
DTSTART:20251102T090000
END:STANDARD
BEGIN:DAYLIGHT
TZOFFSETFROM:-0800
TZOFFSETTO:-0700
TZNAME:PDT
DTSTART:20260308T100000
END:DAYLIGHT
BEGIN:STANDARD
TZOFFSETFROM:-0700
TZOFFSETTO:-0800
TZNAME:PST
DTSTART:20261101T090000
END:STANDARD
BEGIN:DAYLIGHT
TZOFFSETFROM:-0800
TZOFFSETTO:-0700
TZNAME:PDT
DTSTART:20270314T100000
END:DAYLIGHT
BEGIN:STANDARD
TZOFFSETFROM:-0700
TZOFFSETTO:-0800
TZNAME:PST
DTSTART:20271107T090000
END:STANDARD
END:VTIMEZONE
BEGIN:VEVENT
DTSTART;TZID=America/Los_Angeles:20260616T073000
DTEND;TZID=America/Los_Angeles:20260616T083000
DTSTAMP:20260425T035511
CREATED:20251020T191348Z
LAST-MODIFIED:20251020T192003Z
UID:4138-1781595000-1781598600@mukilteokiwanis.org
SUMMARY:Bi-weekly Morning Meeting
DESCRIPTION:We have our morning meetings the first and third Tuesdays at Tapped in Mukilteo.
URL:https://mukilteokiwanis.org/calendar/bi-weekly-morning-meeting-72/
LOCATION:Tapped Mukilteo\, 10809 Mukilteo Speedway\, Mukilteo\, Washington\, 98275
CATEGORIES:Meetings
END:VEVENT
BEGIN:VEVENT
DTSTART;TZID=America/Los_Angeles:20260623T173000
DTEND;TZID=America/Los_Angeles:20260623T183000
DTSTAMP:20260425T035511
CREATED:20251020T195649Z
LAST-MODIFIED:20251020T195650Z
UID:4206-1782235800-1782239400@mukilteokiwanis.org
SUMMARY:Bi-weekly Evening Meeting
DESCRIPTION:Our evening meetings are the second and fourth Tuesdays of the month at 5:30 pm in the Tapped Mukilteo Annex Room.
URL:https://mukilteokiwanis.org/calendar/bi-weekly-evening-meeting-77/
LOCATION:Tapped Mukilteo\, 10809 Mukilteo Speedway\, Mukilteo\, Washington\, 98275
CATEGORIES:Meetings
END:VEVENT
BEGIN:VEVENT
DTSTART;TZID=America/Los_Angeles:20260630T173000
DTEND;TZID=America/Los_Angeles:20260630T183000
DTSTAMP:20260425T035511
CREATED:20251022T165830Z
LAST-MODIFIED:20251022T165831Z
UID:4260-1782840600-1782844200@mukilteokiwanis.org
SUMMARY:Club Social
DESCRIPTION:
URL:https://mukilteokiwanis.org/calendar/club-social-2/
LOCATION:Tapped Mukilteo\, 10809 Mukilteo Speedway\, Mukilteo\, Washington\, 98275
CATEGORIES:Meetings
END:VEVENT
BEGIN:VEVENT
DTSTART;TZID=America/Los_Angeles:20260707T073000
DTEND;TZID=America/Los_Angeles:20260707T083000
DTSTAMP:20260425T035511
CREATED:20251020T192112Z
LAST-MODIFIED:20251020T192113Z
UID:4150-1783409400-1783413000@mukilteokiwanis.org
SUMMARY:Bi-weekly Morning Meeting
DESCRIPTION:We have our morning meetings the first and third Tuesdays at Tapped in Mukilteo.
URL:https://mukilteokiwanis.org/calendar/bi-weekly-morning-meeting-78/
LOCATION:Tapped Mukilteo\, 10809 Mukilteo Speedway\, Mukilteo\, Washington\, 98275
CATEGORIES:Meetings
END:VEVENT
BEGIN:VEVENT
DTSTART;TZID=America/Los_Angeles:20260711T084500
DTEND;TZID=America/Los_Angeles:20260711T110000
DTSTAMP:20260425T035511
CREATED:20250927T211935Z
LAST-MODIFIED:20250927T211942Z
UID:4105-1783759500-1783767600@mukilteokiwanis.org
SUMMARY:Speedway Clean-up
DESCRIPTION:
URL:https://mukilteokiwanis.org/calendar/speedway-clean-up-9/
END:VEVENT
BEGIN:VEVENT
DTSTART;TZID=America/Los_Angeles:20260714T173000
DTEND;TZID=America/Los_Angeles:20260714T183000
DTSTAMP:20260425T035511
CREATED:20251020T195413Z
LAST-MODIFIED:20251020T195415Z
UID:4200-1784050200-1784053800@mukilteokiwanis.org
SUMMARY:Bi-weekly Evening Meeting
DESCRIPTION:Our evening meetings are the second and fourth Tuesdays of the month at 5:30 pm in the Tapped Mukilteo Annex Room.
URL:https://mukilteokiwanis.org/calendar/bi-weekly-evening-meeting-74/
LOCATION:Tapped Mukilteo\, 10809 Mukilteo Speedway\, Mukilteo\, Washington\, 98275
CATEGORIES:Meetings
END:VEVENT
BEGIN:VEVENT
DTSTART;TZID=America/Los_Angeles:20260721T073000
DTEND;TZID=America/Los_Angeles:20260721T083000
DTSTAMP:20260425T035511
CREATED:20251020T191559Z
LAST-MODIFIED:20251020T192154Z
UID:4142-1784619000-1784622600@mukilteokiwanis.org
SUMMARY:Bi-weekly Morning Meeting
DESCRIPTION:We have our morning meetings the first and third Tuesdays at Tapped in Mukilteo.
URL:https://mukilteokiwanis.org/calendar/bi-weekly-morning-meeting-74/
LOCATION:Tapped Mukilteo\, 10809 Mukilteo Speedway\, Mukilteo\, Washington\, 98275
CATEGORIES:Meetings
END:VEVENT
BEGIN:VEVENT
DTSTART;TZID=America/Los_Angeles:20260728T173000
DTEND;TZID=America/Los_Angeles:20260728T183000
DTSTAMP:20260425T035511
CREATED:20251020T195447Z
LAST-MODIFIED:20251020T195519Z
UID:4202-1785259800-1785263400@mukilteokiwanis.org
SUMMARY:Bi-weekly Evening Meeting
DESCRIPTION:Our evening meetings are the second and fourth Tuesdays of the month at 5:30 pm in the Tapped Mukilteo Annex Room.
URL:https://mukilteokiwanis.org/calendar/bi-weekly-evening-meeting-75/
LOCATION:Tapped Mukilteo\, 10809 Mukilteo Speedway\, Mukilteo\, Washington\, 98275
CATEGORIES:Meetings
END:VEVENT
BEGIN:VEVENT
DTSTART;TZID=America/Los_Angeles:20260804T073000
DTEND;TZID=America/Los_Angeles:20260804T083000
DTSTAMP:20260425T035511
CREATED:20251020T192316Z
LAST-MODIFIED:20251020T192324Z
UID:4153-1785828600-1785832200@mukilteokiwanis.org
SUMMARY:Bi-weekly Morning Meeting
DESCRIPTION:We have our morning meetings the first and third Tuesdays at Tapped in Mukilteo.
URL:https://mukilteokiwanis.org/calendar/bi-weekly-morning-meeting-79/
LOCATION:Tapped Mukilteo\, 10809 Mukilteo Speedway\, Mukilteo\, Washington\, 98275
CATEGORIES:Meetings
END:VEVENT
BEGIN:VEVENT
DTSTART;TZID=America/Los_Angeles:20260811T173000
DTEND;TZID=America/Los_Angeles:20260811T183000
DTSTAMP:20260425T035511
CREATED:20251020T195213Z
LAST-MODIFIED:20251020T195214Z
UID:4196-1786469400-1786473000@mukilteokiwanis.org
SUMMARY:Bi-weekly Evening Meeting
DESCRIPTION:Our evening meetings are the second and fourth Tuesdays of the month at 5:30 pm in the Tapped Mukilteo Annex Room.
URL:https://mukilteokiwanis.org/calendar/bi-weekly-evening-meeting-72/
LOCATION:Tapped Mukilteo\, 10809 Mukilteo Speedway\, Mukilteo\, Washington\, 98275
CATEGORIES:Meetings
END:VEVENT
BEGIN:VEVENT
DTSTART;TZID=America/Los_Angeles:20260818T073000
DTEND;TZID=America/Los_Angeles:20260818T083000
DTSTAMP:20260425T035511
CREATED:20251020T192357Z
LAST-MODIFIED:20251020T192405Z
UID:4152-1787038200-1787041800@mukilteokiwanis.org
SUMMARY:Bi-weekly Morning Meeting
DESCRIPTION:We have our morning meetings the first and third Tuesdays at Tapped in Mukilteo.
URL:https://mukilteokiwanis.org/calendar/bi-weekly-morning-meeting-80/
LOCATION:Tapped Mukilteo\, 10809 Mukilteo Speedway\, Mukilteo\, Washington\, 98275
CATEGORIES:Meetings
END:VEVENT
BEGIN:VEVENT
DTSTART;TZID=America/Los_Angeles:20260825T173000
DTEND;TZID=America/Los_Angeles:20260825T183000
DTSTAMP:20260425T035511
CREATED:20251020T195313Z
LAST-MODIFIED:20251020T195314Z
UID:4198-1787679000-1787682600@mukilteokiwanis.org
SUMMARY:Bi-weekly Evening Meeting
DESCRIPTION:Our evening meetings are the second and fourth Tuesdays of the month at 5:30 pm in the Tapped Mukilteo Annex Room.
URL:https://mukilteokiwanis.org/calendar/bi-weekly-evening-meeting-73/
LOCATION:Tapped Mukilteo\, 10809 Mukilteo Speedway\, Mukilteo\, Washington\, 98275
CATEGORIES:Meetings
END:VEVENT
BEGIN:VEVENT
DTSTART;TZID=America/Los_Angeles:20260901T073000
DTEND;TZID=America/Los_Angeles:20260901T083000
DTSTAMP:20260425T035511
CREATED:20251020T192537Z
LAST-MODIFIED:20251020T192544Z
UID:4157-1788247800-1788251400@mukilteokiwanis.org
SUMMARY:Bi-weekly Morning Meeting
DESCRIPTION:We have our morning meetings the first and third Tuesdays at Tapped in Mukilteo.
URL:https://mukilteokiwanis.org/calendar/bi-weekly-morning-meeting-81/
LOCATION:Tapped Mukilteo\, 10809 Mukilteo Speedway\, Mukilteo\, Washington\, 98275
CATEGORIES:Meetings
END:VEVENT
BEGIN:VEVENT
DTSTART;TZID=America/Los_Angeles:20260908T173000
DTEND;TZID=America/Los_Angeles:20260908T183000
DTSTAMP:20260425T035511
CREATED:20251020T194947Z
LAST-MODIFIED:20251020T194948Z
UID:4192-1788888600-1788892200@mukilteokiwanis.org
SUMMARY:Bi-weekly Evening Meeting
DESCRIPTION:Our evening meetings are the second and fourth Tuesdays of the month at 5:30 pm in the Tapped Mukilteo Annex Room.
URL:https://mukilteokiwanis.org/calendar/bi-weekly-evening-meeting-70/
LOCATION:Tapped Mukilteo\, 10809 Mukilteo Speedway\, Mukilteo\, Washington\, 98275
CATEGORIES:Meetings
END:VEVENT
BEGIN:VEVENT
DTSTART;TZID=America/Los_Angeles:20260911T120000
DTEND;TZID=America/Los_Angeles:20260913T160000
DTSTAMP:20260425T035511
CREATED:20251020T201410Z
LAST-MODIFIED:20251020T201412Z
UID:4230-1789128000-1789315200@mukilteokiwanis.org
SUMMARY:Salmon Bake Fundraiser (for school Scholarships)
DESCRIPTION:Join us for our salmon bake fundraiser that supports school scholarships. The Lighthouse Festival is a local community gathering with artisan booths\, food options\, children’s play area\, live music and the iconic Mukilteo Kiwanis blue and yellow food booth featuring wild caught salmon\, garlic bread\, salad\, cole slaw\, and fresh corn on the cob\, along with a cold beverage. \n\n\n\n \n\n\n\nThis flagship fundraiser enables us to provide scholarships to high school seniors in the Mukilteo School District.
URL:https://mukilteokiwanis.org/calendar/salmon-bake-fundraiser-for-school-scholarships-3/
LOCATION:Mukilteo Lighthouse Park\, 609 Front St\, Mukilteo\, Washington\, 98275
CATEGORIES:Fundraiser
ATTACH;FMTTYPE=image/jpeg:https://mukilteokiwanis.org/wp-content/uploads/2022/12/65579503_10157496732738184_300512019818217472_n.jpeg
END:VEVENT
BEGIN:VEVENT
DTSTART;TZID=America/Los_Angeles:20260915T073000
DTEND;TZID=America/Los_Angeles:20260915T083000
DTSTAMP:20260425T035511
CREATED:20251020T192615Z
LAST-MODIFIED:20251020T192624Z
UID:4156-1789457400-1789461000@mukilteokiwanis.org
SUMMARY:Bi-weekly Morning Meeting
DESCRIPTION:We have our morning meetings the first and third Tuesdays at Tapped in Mukilteo.
URL:https://mukilteokiwanis.org/calendar/bi-weekly-morning-meeting-82/
LOCATION:Tapped Mukilteo\, 10809 Mukilteo Speedway\, Mukilteo\, Washington\, 98275
CATEGORIES:Meetings
END:VEVENT
BEGIN:VEVENT
DTSTART;TZID=America/Los_Angeles:20260919T084500
DTEND;TZID=America/Los_Angeles:20260919T084500
DTSTAMP:20260425T035511
CREATED:20250927T212051Z
LAST-MODIFIED:20250927T212059Z
UID:4107-1789807500-1789807500@mukilteokiwanis.org
SUMMARY:Speedway Clean-up
DESCRIPTION:
URL:https://mukilteokiwanis.org/calendar/speedway-clean-up-10/
END:VEVENT
BEGIN:VEVENT
DTSTART;TZID=America/Los_Angeles:20260922T173000
DTEND;TZID=America/Los_Angeles:20260922T183000
DTSTAMP:20260425T035511
CREATED:20251020T195056Z
LAST-MODIFIED:20251022T170225Z
UID:4194-1790098200-1790101800@mukilteokiwanis.org
SUMMARY:Bi-weekly Evening Meeting - Installation Dinner
DESCRIPTION:Our evening meetings are the second and fourth Tuesdays of the month at 5:30 pm in the Tapped Mukilteo Annex Room.
URL:https://mukilteokiwanis.org/calendar/bi-weekly-evening-meeting-71/
LOCATION:Tapped Mukilteo\, 10809 Mukilteo Speedway\, Mukilteo\, Washington\, 98275
CATEGORIES:Meetings
END:VEVENT
BEGIN:VEVENT
DTSTART;TZID=America/Los_Angeles:20260929T173000
DTEND;TZID=America/Los_Angeles:20260929T183000
DTSTAMP:20260425T035511
CREATED:20251022T165910Z
LAST-MODIFIED:20251022T165911Z
UID:4262-1790703000-1790706600@mukilteokiwanis.org
SUMMARY:Club Social
DESCRIPTION:
URL:https://mukilteokiwanis.org/calendar/club-social-3/
LOCATION:Tapped Mukilteo\, 10809 Mukilteo Speedway\, Mukilteo\, Washington\, 98275
CATEGORIES:Meetings
END:VEVENT
BEGIN:VEVENT
DTSTART;TZID=America/Los_Angeles:20261006T073000
DTEND;TZID=America/Los_Angeles:20261006T083000
DTSTAMP:20260425T035511
CREATED:20251020T193048Z
LAST-MODIFIED:20251020T193056Z
UID:4164-1791271800-1791275400@mukilteokiwanis.org
SUMMARY:Bi-weekly Morning Meeting
DESCRIPTION:We have our morning meetings the first and third Tuesdays at Tapped in Mukilteo.
URL:https://mukilteokiwanis.org/calendar/bi-weekly-morning-meeting-85/
LOCATION:Tapped Mukilteo\, 10809 Mukilteo Speedway\, Mukilteo\, Washington\, 98275
CATEGORIES:Meetings
END:VEVENT
BEGIN:VEVENT
DTSTART;TZID=America/Los_Angeles:20261013T173000
DTEND;TZID=America/Los_Angeles:20261013T183000
DTSTAMP:20260425T035511
CREATED:20251020T194745Z
LAST-MODIFIED:20251020T194746Z
UID:4188-1791912600-1791916200@mukilteokiwanis.org
SUMMARY:Bi-weekly Evening Meeting
DESCRIPTION:Our evening meetings are the second and fourth Tuesdays of the month at 5:30 pm in the Tapped Mukilteo Annex Room.
URL:https://mukilteokiwanis.org/calendar/bi-weekly-evening-meeting-67/
LOCATION:Tapped Mukilteo\, 10809 Mukilteo Speedway\, Mukilteo\, Washington\, 98275
CATEGORIES:Meetings
END:VEVENT
BEGIN:VEVENT
DTSTART;TZID=America/Los_Angeles:20261020T073000
DTEND;TZID=America/Los_Angeles:20261020T083000
DTSTAMP:20260425T035511
CREATED:20251020T193145Z
LAST-MODIFIED:20251020T193153Z
UID:4166-1792481400-1792485000@mukilteokiwanis.org
SUMMARY:Bi-weekly Morning Meeting
DESCRIPTION:We have our morning meetings the first and third Tuesdays at Tapped in Mukilteo.
URL:https://mukilteokiwanis.org/calendar/bi-weekly-morning-meeting-86/
LOCATION:Tapped Mukilteo\, 10809 Mukilteo Speedway\, Mukilteo\, Washington\, 98275
CATEGORIES:Meetings
END:VEVENT
BEGIN:VEVENT
DTSTART;TZID=America/Los_Angeles:20261027T173000
DTEND;TZID=America/Los_Angeles:20261027T183000
DTSTAMP:20260425T035511
CREATED:20251020T194828Z
LAST-MODIFIED:20251020T194830Z
UID:4190-1793122200-1793125800@mukilteokiwanis.org
SUMMARY:Bi-weekly Evening Meeting
DESCRIPTION:Our evening meetings are the second and fourth Tuesdays of the month at 5:30 pm in the Tapped Mukilteo Annex Room.
URL:https://mukilteokiwanis.org/calendar/bi-weekly-evening-meeting-69/
LOCATION:Tapped Mukilteo\, 10809 Mukilteo Speedway\, Mukilteo\, Washington\, 98275
CATEGORIES:Meetings
END:VEVENT
BEGIN:VEVENT
DTSTART;TZID=America/Los_Angeles:20261103T073000
DTEND;TZID=America/Los_Angeles:20261103T083000
DTSTAMP:20260425T035511
CREATED:20251020T193257Z
LAST-MODIFIED:20251020T193259Z
UID:4170-1793691000-1793694600@mukilteokiwanis.org
SUMMARY:Bi-weekly Morning Meeting
DESCRIPTION:We have our morning meetings the first and third Tuesdays at Tapped in Mukilteo.
URL:https://mukilteokiwanis.org/calendar/bi-weekly-morning-meeting-87/
LOCATION:Tapped Mukilteo\, 10809 Mukilteo Speedway\, Mukilteo\, Washington\, 98275
CATEGORIES:Meetings
END:VEVENT
BEGIN:VEVENT
DTSTART;TZID=America/Los_Angeles:20261110T173000
DTEND;TZID=America/Los_Angeles:20261110T183000
DTSTAMP:20260425T035511
CREATED:20251020T194223Z
LAST-MODIFIED:20251020T194232Z
UID:4180-1794331800-1794335400@mukilteokiwanis.org
SUMMARY:Bi-weekly Evening Meeting
DESCRIPTION:Our evening meetings are the second and fourth Tuesdays of the month at 5:30 pm in the Tapped Mukilteo Annex Room.
URL:https://mukilteokiwanis.org/calendar/bi-weekly-evening-meeting-66/
LOCATION:Tapped Mukilteo\, 10809 Mukilteo Speedway\, Mukilteo\, Washington\, 98275
CATEGORIES:Meetings
END:VEVENT
BEGIN:VEVENT
DTSTART;TZID=America/Los_Angeles:20261114T084500
DTEND;TZID=America/Los_Angeles:20261114T110000
DTSTAMP:20260425T035511
CREATED:20250927T212205Z
LAST-MODIFIED:20250927T212206Z
UID:4110-1794645900-1794654000@mukilteokiwanis.org
SUMMARY:Speedway Clean-up
DESCRIPTION:
URL:https://mukilteokiwanis.org/calendar/speedway-clean-up-11/
END:VEVENT
BEGIN:VEVENT
DTSTART;TZID=America/Los_Angeles:20261117T073000
DTEND;TZID=America/Los_Angeles:20261117T083000
DTSTAMP:20260425T035511
CREATED:20251020T193339Z
LAST-MODIFIED:20251020T193350Z
UID:4169-1794900600-1794904200@mukilteokiwanis.org
SUMMARY:Bi-weekly Morning Meeting
DESCRIPTION:We have our morning meetings the first and third Tuesdays at Tapped in Mukilteo.
URL:https://mukilteokiwanis.org/calendar/bi-weekly-morning-meeting-88/
LOCATION:Tapped Mukilteo\, 10809 Mukilteo Speedway\, Mukilteo\, Washington\, 98275
CATEGORIES:Meetings
END:VEVENT
BEGIN:VEVENT
DTSTART;TZID=America/Los_Angeles:20261124T173000
DTEND;TZID=America/Los_Angeles:20261124T183000
DTSTAMP:20260425T035511
CREATED:20251020T194453Z
LAST-MODIFIED:20251020T194501Z
UID:4184-1795541400-1795545000@mukilteokiwanis.org
SUMMARY:Bi-weekly Evening Meeting
DESCRIPTION:Our evening meetings are the second and fourth Tuesdays of the month at 5:30 pm in the Tapped Mukilteo Annex Room.
URL:https://mukilteokiwanis.org/calendar/bi-weekly-evening-meeting-68/
LOCATION:Tapped Mukilteo\, 10809 Mukilteo Speedway\, Mukilteo\, Washington\, 98275
CATEGORIES:Meetings
END:VEVENT
BEGIN:VEVENT
DTSTART;TZID=America/Los_Angeles:20261201T073000
DTEND;TZID=America/Los_Angeles:20261201T083000
DTSTAMP:20260425T035511
CREATED:20251020T193449Z
LAST-MODIFIED:20251020T193457Z
UID:4168-1796110200-1796113800@mukilteokiwanis.org
SUMMARY:Bi-weekly Morning Meeting
DESCRIPTION:We have our morning meetings the first and third Tuesdays at Tapped in Mukilteo.
URL:https://mukilteokiwanis.org/calendar/bi-weekly-morning-meeting-89/
LOCATION:Tapped Mukilteo\, 10809 Mukilteo Speedway\, Mukilteo\, Washington\, 98275
CATEGORIES:Meetings
END:VEVENT
BEGIN:VEVENT
DTSTART;TZID=America/Los_Angeles:20261208T173000
DTEND;TZID=America/Los_Angeles:20261208T183000
DTSTAMP:20260425T035511
CREATED:20251020T193801Z
LAST-MODIFIED:20251020T193846Z
UID:4176-1796751000-1796754600@mukilteokiwanis.org
SUMMARY:Bi-weekly Evening Meeting
DESCRIPTION:Our evening meetings are the second and fourth Tuesdays of the month at 5:30 pm in the Tapped Mukilteo Annex Room.
URL:https://mukilteokiwanis.org/calendar/bi-weekly-evening-meeting-55/
LOCATION:Tapped Mukilteo\, 10809 Mukilteo Speedway\, Mukilteo\, Washington\, 98275
CATEGORIES:Meetings
END:VEVENT
END:VCALENDAR