BEGIN:VCALENDAR
VERSION:2.0
PRODID:-//Mukilteo Kiwanis - ECPv6.15.20//NONSGML v1.0//EN
CALSCALE:GREGORIAN
METHOD:PUBLISH
X-WR-CALNAME:Mukilteo Kiwanis
X-ORIGINAL-URL:https://mukilteokiwanis.org
X-WR-CALDESC:Events for Mukilteo Kiwanis
REFRESH-INTERVAL;VALUE=DURATION:PT1H
X-Robots-Tag:noindex
X-PUBLISHED-TTL:PT1H
BEGIN:VTIMEZONE
TZID:America/Los_Angeles
BEGIN:DAYLIGHT
TZOFFSETFROM:-0800
TZOFFSETTO:-0700
TZNAME:PDT
DTSTART:20240310T100000
END:DAYLIGHT
BEGIN:STANDARD
TZOFFSETFROM:-0700
TZOFFSETTO:-0800
TZNAME:PST
DTSTART:20241103T090000
END:STANDARD
BEGIN:DAYLIGHT
TZOFFSETFROM:-0800
TZOFFSETTO:-0700
TZNAME:PDT
DTSTART:20250309T100000
END:DAYLIGHT
BEGIN:STANDARD
TZOFFSETFROM:-0700
TZOFFSETTO:-0800
TZNAME:PST
DTSTART:20251102T090000
END:STANDARD
BEGIN:DAYLIGHT
TZOFFSETFROM:-0800
TZOFFSETTO:-0700
TZNAME:PDT
DTSTART:20260308T100000
END:DAYLIGHT
BEGIN:STANDARD
TZOFFSETFROM:-0700
TZOFFSETTO:-0800
TZNAME:PST
DTSTART:20261101T090000
END:STANDARD
BEGIN:DAYLIGHT
TZOFFSETFROM:-0800
TZOFFSETTO:-0700
TZNAME:PDT
DTSTART:20270314T100000
END:DAYLIGHT
BEGIN:STANDARD
TZOFFSETFROM:-0700
TZOFFSETTO:-0800
TZNAME:PST
DTSTART:20271107T090000
END:STANDARD
END:VTIMEZONE
BEGIN:VEVENT
DTSTART;TZID=America/Los_Angeles:20260421T073000
DTEND;TZID=America/Los_Angeles:20260421T083000
DTSTAMP:20260425T073426
CREATED:20251020T192851Z
LAST-MODIFIED:20251020T192858Z
UID:4162-1776756600-1776760200@mukilteokiwanis.org
SUMMARY:Bi-weekly Morning Meeting
DESCRIPTION:We have our morning meetings the first and third Tuesdays at Tapped in Mukilteo.
URL:https://mukilteokiwanis.org/calendar/bi-weekly-morning-meeting-84/
LOCATION:Tapped Mukilteo\, 10809 Mukilteo Speedway\, Mukilteo\, Washington\, 98275
CATEGORIES:Meetings
END:VEVENT
BEGIN:VEVENT
DTSTART;TZID=America/Los_Angeles:20260418T090000
DTEND;TZID=America/Los_Angeles:20260418T140000
DTSTAMP:20260425T073426
CREATED:20251022T170023Z
LAST-MODIFIED:20251022T170024Z
UID:4264-1776502800-1776520800@mukilteokiwanis.org
SUMMARY:Mukilteo Community Garden Clean-Up
DESCRIPTION:Come join us as we clean up and prepare the garden for the upcoming season.
URL:https://mukilteokiwanis.org/calendar/mukilteo-community-garden-clean-up-2/
LOCATION:Washington
END:VEVENT
BEGIN:VEVENT
DTSTART;TZID=America/Los_Angeles:20260414T173000
DTEND;TZID=America/Los_Angeles:20260414T183000
DTSTAMP:20260425T073426
CREATED:20251020T195936Z
LAST-MODIFIED:20251020T195938Z
UID:4212-1776187800-1776191400@mukilteokiwanis.org
SUMMARY:Bi-weekly Evening Meeting
DESCRIPTION:Our evening meetings are the second and fourth Tuesdays of the month at 5:30 pm in the Tapped Mukilteo Annex Room.
URL:https://mukilteokiwanis.org/calendar/bi-weekly-evening-meeting-80/
LOCATION:Tapped Mukilteo\, 10809 Mukilteo Speedway\, Mukilteo\, Washington\, 98275
CATEGORIES:Meetings
END:VEVENT
BEGIN:VEVENT
DTSTART;TZID=America/Los_Angeles:20260411T084500
DTEND;TZID=America/Los_Angeles:20260411T110000
DTSTAMP:20260425T073426
CREATED:20240125T232511Z
LAST-MODIFIED:20250927T212648Z
UID:3558-1775897100-1775905200@mukilteokiwanis.org
SUMMARY:Speedway Clean-Up
DESCRIPTION:
URL:https://mukilteokiwanis.org/calendar/speedway-clean-up-6/
LOCATION:Washington
END:VEVENT
BEGIN:VEVENT
DTSTART;TZID=America/Los_Angeles:20260407T073000
DTEND;TZID=America/Los_Angeles:20260407T083000
DTSTAMP:20260425T073426
CREATED:20251020T191502Z
LAST-MODIFIED:20251020T191510Z
UID:4140-1775547000-1775550600@mukilteokiwanis.org
SUMMARY:Bi-weekly Morning Meeting
DESCRIPTION:We have our morning meetings the first and third Tuesdays at Tapped in Mukilteo.
URL:https://mukilteokiwanis.org/calendar/bi-weekly-morning-meeting-73/
LOCATION:Tapped Mukilteo\, 10809 Mukilteo Speedway\, Mukilteo\, Washington\, 98275
CATEGORIES:Meetings
END:VEVENT
BEGIN:VEVENT
DTSTART;TZID=America/Los_Angeles:20260331T173000
DTEND;TZID=America/Los_Angeles:20260331T183000
DTSTAMP:20260425T073426
CREATED:20251022T165731Z
LAST-MODIFIED:20251022T165733Z
UID:4258-1774978200-1774981800@mukilteokiwanis.org
SUMMARY:Club Social
DESCRIPTION:
URL:https://mukilteokiwanis.org/calendar/club-social/
LOCATION:Tapped Mukilteo\, 10809 Mukilteo Speedway\, Mukilteo\, Washington\, 98275
CATEGORIES:Meetings
END:VEVENT
BEGIN:VEVENT
DTSTART;TZID=America/Los_Angeles:20260324T173000
DTEND;TZID=America/Los_Angeles:20260324T183000
DTSTAMP:20260425T073426
CREATED:20251020T200157Z
LAST-MODIFIED:20251020T200159Z
UID:4218-1774373400-1774377000@mukilteokiwanis.org
SUMMARY:Bi-weekly Evening Meeting
DESCRIPTION:Our evening meetings are the second and fourth Tuesdays of the month at 5:30 pm in the Tapped Mukilteo Annex Room.
URL:https://mukilteokiwanis.org/calendar/bi-weekly-evening-meeting-83/
LOCATION:Tapped Mukilteo\, 10809 Mukilteo Speedway\, Mukilteo\, Washington\, 98275
CATEGORIES:Meetings
END:VEVENT
BEGIN:VEVENT
DTSTART;TZID=America/Los_Angeles:20260317T073000
DTEND;TZID=America/Los_Angeles:20260317T083000
DTSTAMP:20260425T073426
CREATED:20251020T192748Z
LAST-MODIFIED:20251020T192750Z
UID:4160-1773732600-1773736200@mukilteokiwanis.org
SUMMARY:Bi-weekly Morning Meeting
DESCRIPTION:We have our morning meetings the first and third Tuesdays at Tapped in Mukilteo.
URL:https://mukilteokiwanis.org/calendar/bi-weekly-morning-meeting-83/
LOCATION:Tapped Mukilteo\, 10809 Mukilteo Speedway\, Mukilteo\, Washington\, 98275
CATEGORIES:Meetings
END:VEVENT
BEGIN:VEVENT
DTSTART;TZID=America/Los_Angeles:20260310T173000
DTEND;TZID=America/Los_Angeles:20260310T183000
DTSTAMP:20260425T073426
CREATED:20251020T200116Z
LAST-MODIFIED:20251020T200117Z
UID:4216-1773163800-1773167400@mukilteokiwanis.org
SUMMARY:Bi-weekly Evening Meeting
DESCRIPTION:Our evening meetings are the second and fourth Tuesdays of the month at 5:30 pm in the Tapped Mukilteo Annex Room.
URL:https://mukilteokiwanis.org/calendar/bi-weekly-evening-meeting-82/
LOCATION:Tapped Mukilteo\, 10809 Mukilteo Speedway\, Mukilteo\, Washington\, 98275
CATEGORIES:Meetings
END:VEVENT
BEGIN:VEVENT
DTSTART;TZID=America/Los_Angeles:20260307T170000
DTEND;TZID=America/Los_Angeles:20260307T220000
DTSTAMP:20260425T073426
CREATED:20251020T201829Z
LAST-MODIFIED:20260119T204120Z
UID:4232-1772902800-1772920800@mukilteokiwanis.org
SUMMARY:Chili And Chowder Cook-Off & Tasting
DESCRIPTION:
URL:https://mukilteokiwanis.org/calendar/chili-and-chowder-2/
LOCATION:Mukilteo Boys & Girls Club of America\, 10600 47th Pl W\, Mukilteo\, Washington\, 98275
CATEGORIES:Fundraiser
END:VEVENT
BEGIN:VEVENT
DTSTART;TZID=America/Los_Angeles:20260303T073000
DTEND;TZID=America/Los_Angeles:20260303T083000
DTSTAMP:20260425T073426
CREATED:20251020T191256Z
LAST-MODIFIED:20251020T191304Z
UID:4136-1772523000-1772526600@mukilteokiwanis.org
SUMMARY:Bi-weekly Morning Meeting
DESCRIPTION:We have our morning meetings the first and third Tuesdays at Tapped in Mukilteo.
URL:https://mukilteokiwanis.org/calendar/bi-weekly-morning-meeting-71/
LOCATION:Tapped Mukilteo\, 10809 Mukilteo Speedway\, Mukilteo\, Washington\, 98275
CATEGORIES:Meetings
END:VEVENT
BEGIN:VEVENT
DTSTART;TZID=America/Los_Angeles:20260224T173000
DTEND;TZID=America/Los_Angeles:20260224T183000
DTSTAMP:20260425T073426
CREATED:20251020T200348Z
LAST-MODIFIED:20251020T200349Z
UID:4222-1771954200-1771957800@mukilteokiwanis.org
SUMMARY:Bi-weekly Evening Meeting
DESCRIPTION:Our evening meetings are the second and fourth Tuesdays of the month at 5:30 pm in the Tapped Mukilteo Annex Room.
URL:https://mukilteokiwanis.org/calendar/bi-weekly-evening-meeting-85/
LOCATION:Tapped Mukilteo\, 10809 Mukilteo Speedway\, Mukilteo\, Washington\, 98275
CATEGORIES:Meetings
END:VEVENT
BEGIN:VEVENT
DTSTART;TZID=America/Los_Angeles:20260217T073000
DTEND;TZID=America/Los_Angeles:20260217T083000
DTSTAMP:20260425T073426
CREATED:20251020T191036Z
LAST-MODIFIED:20251020T191047Z
UID:4132-1771313400-1771317000@mukilteokiwanis.org
SUMMARY:Bi-weekly Morning Meeting
DESCRIPTION:We have our morning meetings the first and third Tuesdays at Tapped in Mukilteo.
URL:https://mukilteokiwanis.org/calendar/bi-weekly-morning-meeting-70/
LOCATION:Tapped Mukilteo\, 10809 Mukilteo Speedway\, Mukilteo\, Washington\, 98275
CATEGORIES:Meetings
END:VEVENT
BEGIN:VEVENT
DTSTART;TZID=America/Los_Angeles:20260210T173000
DTEND;TZID=America/Los_Angeles:20260210T183000
DTSTAMP:20260425T073426
CREATED:20251020T200307Z
LAST-MODIFIED:20251020T200309Z
UID:4220-1770744600-1770748200@mukilteokiwanis.org
SUMMARY:Bi-weekly Evening Meeting
DESCRIPTION:Our evening meetings are the second and fourth Tuesdays of the month at 5:30 pm in the Tapped Mukilteo Annex Room.
URL:https://mukilteokiwanis.org/calendar/bi-weekly-evening-meeting-84/
LOCATION:Tapped Mukilteo\, 10809 Mukilteo Speedway\, Mukilteo\, Washington\, 98275
CATEGORIES:Meetings
END:VEVENT
BEGIN:VEVENT
DTSTART;TZID=America/Los_Angeles:20260203T073000
DTEND;TZID=America/Los_Angeles:20260203T083000
DTSTAMP:20260425T073426
CREATED:20251020T190914Z
LAST-MODIFIED:20251020T190924Z
UID:4133-1770103800-1770107400@mukilteokiwanis.org
SUMMARY:Bi-weekly Morning Meeting
DESCRIPTION:We have our morning meetings the first and third Tuesdays at Tapped in Mukilteo.
URL:https://mukilteokiwanis.org/calendar/bi-weekly-morning-meeting-69/
LOCATION:Tapped Mukilteo\, 10809 Mukilteo Speedway\, Mukilteo\, Washington\, 98275
CATEGORIES:Meetings
END:VEVENT
BEGIN:VEVENT
DTSTART;TZID=America/Los_Angeles:20260127T173000
DTEND;TZID=America/Los_Angeles:20260127T183000
DTSTAMP:20260425T073426
CREATED:20251020T200601Z
LAST-MODIFIED:20251020T200602Z
UID:4228-1769535000-1769538600@mukilteokiwanis.org
SUMMARY:Bi-weekly Evening Meeting
DESCRIPTION:Our evening meetings are the second and fourth Tuesdays of the month at 5:30 pm in the Tapped Mukilteo Annex Room.
URL:https://mukilteokiwanis.org/calendar/bi-weekly-evening-meeting-88/
LOCATION:Tapped Mukilteo\, 10809 Mukilteo Speedway\, Mukilteo\, Washington\, 98275
CATEGORIES:Meetings
END:VEVENT
BEGIN:VEVENT
DTSTART;TZID=America/Los_Angeles:20260120T073000
DTEND;TZID=America/Los_Angeles:20260120T083000
DTSTAMP:20260425T073426
CREATED:20251020T190729Z
LAST-MODIFIED:20251020T190731Z
UID:4130-1768894200-1768897800@mukilteokiwanis.org
SUMMARY:Bi-weekly Morning Meeting
DESCRIPTION:We have our morning meetings the first and third Tuesdays at Tapped in Mukilteo.
URL:https://mukilteokiwanis.org/calendar/bi-weekly-morning-meeting-57/
LOCATION:Tapped Mukilteo\, 10809 Mukilteo Speedway\, Mukilteo\, Washington\, 98275
CATEGORIES:Meetings
END:VEVENT
BEGIN:VEVENT
DTSTART;TZID=America/Los_Angeles:20260113T173000
DTEND;TZID=America/Los_Angeles:20260113T183000
DTSTAMP:20260425T073426
CREATED:20251020T200440Z
LAST-MODIFIED:20251020T200442Z
UID:4224-1768325400-1768329000@mukilteokiwanis.org
SUMMARY:Bi-weekly Evening Meeting
DESCRIPTION:Our evening meetings are the second and fourth Tuesdays of the month at 5:30 pm in the Tapped Mukilteo Annex Room.
URL:https://mukilteokiwanis.org/calendar/bi-weekly-evening-meeting-86/
LOCATION:Tapped Mukilteo\, 10809 Mukilteo Speedway\, Mukilteo\, Washington\, 98275
CATEGORIES:Meetings
END:VEVENT
BEGIN:VEVENT
DTSTART;TZID=America/Los_Angeles:20260106T073000
DTEND;TZID=America/Los_Angeles:20260106T083000
DTSTAMP:20260425T073426
CREATED:20251020T190421Z
LAST-MODIFIED:20251020T190422Z
UID:4128-1767684600-1767688200@mukilteokiwanis.org
SUMMARY:Bi-weekly Morning Meeting
DESCRIPTION:We have our morning meetings the first and third Tuesdays at Tapped in Mukilteo.
URL:https://mukilteokiwanis.org/calendar/bi-weekly-morning-meeting-50/
LOCATION:Tapped Mukilteo\, 10809 Mukilteo Speedway\, Mukilteo\, Washington\, 98275
CATEGORIES:Meetings
END:VEVENT
BEGIN:VEVENT
DTSTART;TZID=America/Los_Angeles:20251230T173000
DTEND;TZID=America/Los_Angeles:20251230T183000
DTSTAMP:20260425T073426
CREATED:20251022T165451Z
LAST-MODIFIED:20251022T165527Z
UID:4256-1767115800-1767119400@mukilteokiwanis.org
SUMMARY:Club Social - CANCELLED
DESCRIPTION:Our evening meetings are the second and fourth Tuesdays of the month at 5:30 pm in the Tapped Mukilteo Annex Room.
URL:https://mukilteokiwanis.org/calendar/club-social-cancelled/
LOCATION:Tapped Mukilteo\, 10809 Mukilteo Speedway\, Mukilteo\, Washington\, 98275
CATEGORIES:Meetings
END:VEVENT
BEGIN:VEVENT
DTSTART;TZID=America/Los_Angeles:20251223T173000
DTEND;TZID=America/Los_Angeles:20251223T183000
DTSTAMP:20260425T073426
CREATED:20241007T220500Z
LAST-MODIFIED:20250709T230233Z
UID:3811-1766511000-1766514600@mukilteokiwanis.org
SUMMARY:Bi-weekly Evening Meeting\, CANCELLED\, Merry Christmas!
DESCRIPTION:Our evening meetings are the second and fourth Wednesday of the month at 5:30 pm in the Tapped Mukilteo Annex Room.
URL:https://mukilteokiwanis.org/calendar/bi-weekly-evening-meeting-cancelled-merry-christmas-3/
LOCATION:Tapped Mukilteo\, 10809 Mukilteo Speedway\, Mukilteo\, Washington\, 98275
CATEGORIES:Meetings
END:VEVENT
BEGIN:VEVENT
DTSTART;TZID=America/Los_Angeles:20251221T110000
DTEND;TZID=America/Los_Angeles:20251221T140000
DTSTAMP:20260425T073426
CREATED:20251108T005929Z
LAST-MODIFIED:20251108T005932Z
UID:4288-1766314800-1766325600@mukilteokiwanis.org
SUMMARY:Food Bank volunteering
DESCRIPTION:Join us as we pack staple bags for local families who are being served by the Mukilteo Food Bank. \n\n\n\n \n\n\n\ntwo shifts… 11:00-12:30 and 12:30-2:00
URL:https://mukilteokiwanis.org/calendar/food-bank-volunteering-24/
LOCATION:Washington
END:VEVENT
BEGIN:VEVENT
DTSTART;TZID=America/Los_Angeles:20251216T073000
DTEND;TZID=America/Los_Angeles:20251216T083000
DTSTAMP:20260425T073426
CREATED:20241008T221801Z
LAST-MODIFIED:20241216T214833Z
UID:3838-1765870200-1765873800@mukilteokiwanis.org
SUMMARY:Bi-weekly Morning Meeting
DESCRIPTION:We have our morning meetings the first and third Wednesdays at Tapped in Mukilteo.
URL:https://mukilteokiwanis.org/calendar/bi-weekly-morning-meeting-64/
LOCATION:Tapped Mukilteo\, 10809 Mukilteo Speedway\, Mukilteo\, Washington\, 98275
CATEGORIES:Meetings
END:VEVENT
BEGIN:VEVENT
DTSTART;TZID=America/Los_Angeles:20251213T080000
DTEND;TZID=America/Los_Angeles:20251213T170000
DTSTAMP:20260425T073426
CREATED:20251022T164917Z
LAST-MODIFIED:20251022T164919Z
UID:4252-1765612800-1765645200@mukilteokiwanis.org
SUMMARY:Christmas House
DESCRIPTION:
URL:https://mukilteokiwanis.org/calendar/christmas-house-3/
LOCATION:Washington
END:VEVENT
BEGIN:VEVENT
DTSTART;TZID=America/Los_Angeles:20251209T173000
DTEND;TZID=America/Los_Angeles:20251209T183000
DTSTAMP:20260425T073426
CREATED:20241008T222956Z
LAST-MODIFIED:20251022T165328Z
UID:3861-1765301400-1765305000@mukilteokiwanis.org
SUMMARY:Bi-weekly Evening Meeting-Christmas Party
DESCRIPTION:Christmas Party at Harbour Pointe Golf Course.
URL:https://mukilteokiwanis.org/calendar/bi-weekly-evening-meeting-62/
LOCATION:Tapped Mukilteo\, 10809 Mukilteo Speedway\, Mukilteo\, Washington\, 98275
CATEGORIES:Meetings
END:VEVENT
BEGIN:VEVENT
DTSTART;TZID=America/Los_Angeles:20251206T080000
DTEND;TZID=America/Los_Angeles:20251206T170000
DTSTAMP:20260425T073426
CREATED:20251022T164838Z
LAST-MODIFIED:20251022T164840Z
UID:4250-1765008000-1765040400@mukilteokiwanis.org
SUMMARY:Christmas House
DESCRIPTION:
URL:https://mukilteokiwanis.org/calendar/christmas-house-2/
LOCATION:Washington
END:VEVENT
BEGIN:VEVENT
DTSTART;TZID=America/Los_Angeles:20251202T073000
DTEND;TZID=America/Los_Angeles:20251202T083000
DTSTAMP:20260425T073426
CREATED:20241008T221733Z
LAST-MODIFIED:20241216T214744Z
UID:3836-1764660600-1764664200@mukilteokiwanis.org
SUMMARY:Bi-weekly Morning Meeting
DESCRIPTION:We have our morning meetings the first and third Wednesdays at Tapped in Mukilteo.
URL:https://mukilteokiwanis.org/calendar/bi-weekly-morning-meeting-63/
LOCATION:Tapped Mukilteo\, 10809 Mukilteo Speedway\, Mukilteo\, Washington\, 98275
CATEGORIES:Meetings
END:VEVENT
BEGIN:VEVENT
DTSTART;TZID=America/Los_Angeles:20251125T173000
DTEND;TZID=America/Los_Angeles:20251125T183000
DTSTAMP:20260425T073426
CREATED:20241007T221004Z
LAST-MODIFIED:20241216T214719Z
UID:3817-1764091800-1764095400@mukilteokiwanis.org
SUMMARY:Bi-weekly Evening Meeting cancelled-Happy Thanksgiving
DESCRIPTION:Our evening meetings are the second and fourth Wednesday of the month at 5:30 pm in the Tapped Mukilteo Annex Room.
URL:https://mukilteokiwanis.org/calendar/bi-weekly-evening-meeting-cancelled-happy-thanksgiving/
LOCATION:Tapped Mukilteo\, 10809 Mukilteo Speedway\, Mukilteo\, Washington\, 98275
CATEGORIES:Meetings
END:VEVENT
BEGIN:VEVENT
DTSTART;TZID=America/Los_Angeles:20251123T110000
DTEND;TZID=America/Los_Angeles:20251123T140000
DTSTAMP:20260425T073426
CREATED:20251108T005755Z
LAST-MODIFIED:20251108T005856Z
UID:4286-1763895600-1763906400@mukilteokiwanis.org
SUMMARY:Food Bank volunteering
DESCRIPTION:Join us as we pack staple bags for local families who are being served by the Mukilteo Food Bank. \n\n\n\n \n\n\n\ntwo shifts… 11:00-12:30 and 12:30-2:00
URL:https://mukilteokiwanis.org/calendar/food-bank-volunteering-23/
LOCATION:Washington
END:VEVENT
BEGIN:VEVENT
DTSTART;TZID=America/Los_Angeles:20251118T073000
DTEND;TZID=America/Los_Angeles:20251118T083000
DTSTAMP:20260425T073426
CREATED:20241008T221647Z
LAST-MODIFIED:20241216T214646Z
UID:3834-1763451000-1763454600@mukilteokiwanis.org
SUMMARY:Bi-weekly Morning Meeting
DESCRIPTION:We have our morning meetings the first and third Wednesdays at Tapped in Mukilteo.
URL:https://mukilteokiwanis.org/calendar/bi-weekly-morning-meeting-62/
LOCATION:Tapped Mukilteo\, 10809 Mukilteo Speedway\, Mukilteo\, Washington\, 98275
CATEGORIES:Meetings
END:VEVENT
END:VCALENDAR