BEGIN:VCALENDAR
VERSION:2.0
PRODID:-//Mukilteo Kiwanis - ECPv6.15.20//NONSGML v1.0//EN
CALSCALE:GREGORIAN
METHOD:PUBLISH
X-WR-CALNAME:Mukilteo Kiwanis
X-ORIGINAL-URL:https://mukilteokiwanis.org
X-WR-CALDESC:Events for Mukilteo Kiwanis
REFRESH-INTERVAL;VALUE=DURATION:PT1H
X-Robots-Tag:noindex
X-PUBLISHED-TTL:PT1H
BEGIN:VTIMEZONE
TZID:America/Los_Angeles
BEGIN:DAYLIGHT
TZOFFSETFROM:-0800
TZOFFSETTO:-0700
TZNAME:PDT
DTSTART:20240310T100000
END:DAYLIGHT
BEGIN:STANDARD
TZOFFSETFROM:-0700
TZOFFSETTO:-0800
TZNAME:PST
DTSTART:20241103T090000
END:STANDARD
BEGIN:DAYLIGHT
TZOFFSETFROM:-0800
TZOFFSETTO:-0700
TZNAME:PDT
DTSTART:20250309T100000
END:DAYLIGHT
BEGIN:STANDARD
TZOFFSETFROM:-0700
TZOFFSETTO:-0800
TZNAME:PST
DTSTART:20251102T090000
END:STANDARD
BEGIN:DAYLIGHT
TZOFFSETFROM:-0800
TZOFFSETTO:-0700
TZNAME:PDT
DTSTART:20260308T100000
END:DAYLIGHT
BEGIN:STANDARD
TZOFFSETFROM:-0700
TZOFFSETTO:-0800
TZNAME:PST
DTSTART:20261101T090000
END:STANDARD
END:VTIMEZONE
BEGIN:VEVENT
DTSTART;TZID=America/Los_Angeles:20251014T173000
DTEND;TZID=America/Los_Angeles:20251014T183000
DTSTAMP:20260425T063112
CREATED:20241216T214247Z
LAST-MODIFIED:20241216T214248Z
UID:3922-1760463000-1760466600@mukilteokiwanis.org
SUMMARY:Bi-weekly Evening Meeting
DESCRIPTION:Our evening meetings are the second and fourth Wednesday of the month at 5:30 pm in the Tapped Mukilteo Annex Room.
URL:https://mukilteokiwanis.org/calendar/bi-weekly-evening-meeting-59/
LOCATION:Tapped Mukilteo\, 10809 Mukilteo Speedway\, Mukilteo\, Washington\, 98275
CATEGORIES:Meetings
END:VEVENT
BEGIN:VEVENT
DTSTART;TZID=America/Los_Angeles:20251007T073000
DTEND;TZID=America/Los_Angeles:20251007T083000
DTSTAMP:20260425T063112
CREATED:20241008T221457Z
LAST-MODIFIED:20241216T213815Z
UID:3828-1759822200-1759825800@mukilteokiwanis.org
SUMMARY:Bi-weekly Morning Meeting
DESCRIPTION:We have our morning meetings the first and third Wednesdays at Tapped in Mukilteo.
URL:https://mukilteokiwanis.org/calendar/bi-weekly-morning-meeting-59/
LOCATION:Tapped Mukilteo\, 10809 Mukilteo Speedway\, Mukilteo\, Washington\, 98275
CATEGORIES:Meetings
END:VEVENT
BEGIN:VEVENT
DTSTART;TZID=America/Los_Angeles:20250923T173000
DTEND;TZID=America/Los_Angeles:20250923T183000
DTSTAMP:20260425T063112
CREATED:20241008T222418Z
LAST-MODIFIED:20250709T230054Z
UID:3853-1758648600-1758652200@mukilteokiwanis.org
SUMMARY:Bi-weekly Evening Meeting - Installation Ceremony
DESCRIPTION:Our evening meetings are the second and fourth Wednesday of the month at 5:30 pm in the Tapped Mukilteo Annex Room.
URL:https://mukilteokiwanis.org/calendar/bi-weekly-evening-meeting-58/
LOCATION:Tapped Mukilteo\, 10809 Mukilteo Speedway\, Mukilteo\, Washington\, 98275
CATEGORIES:Meetings
END:VEVENT
BEGIN:VEVENT
DTSTART;TZID=America/Los_Angeles:20250920T090000
DTEND;TZID=America/Los_Angeles:20250920T113000
DTSTAMP:20260425T063112
CREATED:20250814T162536Z
LAST-MODIFIED:20250814T162546Z
UID:4079-1758358800-1758367800@mukilteokiwanis.org
SUMMARY:Speedway Clean Up
DESCRIPTION:Meet in the QFC parking lot by Jack in the Box at 8:45a.
URL:https://mukilteokiwanis.org/calendar/speedway-clean-up-8/
LOCATION:Washington
END:VEVENT
BEGIN:VEVENT
DTSTART;TZID=America/Los_Angeles:20250916T073000
DTEND;TZID=America/Los_Angeles:20250916T083000
DTSTAMP:20260425T063112
CREATED:20241008T221158Z
LAST-MODIFIED:20241216T213450Z
UID:3822-1758007800-1758011400@mukilteokiwanis.org
SUMMARY:Bi-weekly Morning Meeting
DESCRIPTION:We have our morning meetings the first and third Wednesdays at Tapped in Mukilteo.
URL:https://mukilteokiwanis.org/calendar/bi-weekly-morning-meeting-56/
LOCATION:Tapped Mukilteo\, 10809 Mukilteo Speedway\, Mukilteo\, Washington\, 98275
CATEGORIES:Meetings
END:VEVENT
BEGIN:VEVENT
DTSTART;TZID=America/Los_Angeles:20250909T173000
DTEND;TZID=America/Los_Angeles:20250909T183000
DTSTAMP:20260425T063112
CREATED:20241008T222310Z
LAST-MODIFIED:20241216T213430Z
UID:3851-1757439000-1757442600@mukilteokiwanis.org
SUMMARY:Bi-weekly Evening Meeting
DESCRIPTION:Our evening meetings are the second and fourth Wednesday of the month at 5:30 pm in the Tapped Mukilteo Annex Room.
URL:https://mukilteokiwanis.org/calendar/bi-weekly-evening-meeting-57/
LOCATION:Tapped Mukilteo\, 10809 Mukilteo Speedway\, Mukilteo\, Washington\, 98275
CATEGORIES:Meetings
END:VEVENT
BEGIN:VEVENT
DTSTART;TZID=America/Los_Angeles:20250905T120000
DTEND;TZID=America/Los_Angeles:20250907T160000
DTSTAMP:20260425T063112
CREATED:20241007T220720Z
LAST-MODIFIED:20241007T221442Z
UID:3814-1757073600-1757260800@mukilteokiwanis.org
SUMMARY:Salmon Bake Fundraiser (for school Scholarships)
DESCRIPTION:Join us for our salmon bake fundraiser that supports school scholarships. The Lighthouse Festival is a local community gathering with artisan booths\, food options\, children’s play area\, live music and the iconic Mukilteo Kiwanis blue and yellow food booth featuring wild caught salmon\, garlic bread\, salad\, cole slaw\, and fresh corn on the cob. \n\n\n\n \n\n\n\nThis flagship fundraiser enables us to provide scholarships to high school seniors in the Mukilteo School District.
URL:https://mukilteokiwanis.org/calendar/salmon-bake-fundraiser-for-school-scholarships-2/
LOCATION:Mukilteo Lighthouse Park\, 609 Front St\, Mukilteo\, Washington\, 98275
CATEGORIES:Fundraiser
ATTACH;FMTTYPE=image/jpeg:https://mukilteokiwanis.org/wp-content/uploads/2022/12/65579503_10157496732738184_300512019818217472_n.jpeg
END:VEVENT
BEGIN:VEVENT
DTSTART;TZID=America/Los_Angeles:20250902T073000
DTEND;TZID=America/Los_Angeles:20250902T083000
DTSTAMP:20260425T063112
CREATED:20241008T221353Z
LAST-MODIFIED:20241216T213357Z
UID:3826-1756798200-1756801800@mukilteokiwanis.org
SUMMARY:Bi-weekly Morning Meeting
DESCRIPTION:We have our morning meetings the first and third Wednesdays at Tapped in Mukilteo.
URL:https://mukilteokiwanis.org/calendar/bi-weekly-morning-meeting-58/
LOCATION:Tapped Mukilteo\, 10809 Mukilteo Speedway\, Mukilteo\, Washington\, 98275
CATEGORIES:Meetings
END:VEVENT
BEGIN:VEVENT
DTSTART;TZID=America/Los_Angeles:20250826T173000
DTEND;TZID=America/Los_Angeles:20250826T183000
DTSTAMP:20260425T063112
CREATED:20241008T222113Z
LAST-MODIFIED:20241216T213314Z
UID:3847-1756229400-1756233000@mukilteokiwanis.org
SUMMARY:Bi-weekly Evening Meeting
DESCRIPTION:Our evening meetings are the second and fourth Wednesday of the month at 5:30 pm in the Tapped Mukilteo Annex Room.
URL:https://mukilteokiwanis.org/calendar/bi-weekly-evening-meeting-56/
LOCATION:Tapped Mukilteo\, 10809 Mukilteo Speedway\, Mukilteo\, Washington\, 98275
CATEGORIES:Meetings
END:VEVENT
BEGIN:VEVENT
DTSTART;TZID=America/Los_Angeles:20250819T073000
DTEND;TZID=America/Los_Angeles:20250819T083000
DTSTAMP:20260425T063112
CREATED:20241008T222221Z
LAST-MODIFIED:20241216T213250Z
UID:3849-1755588600-1755592200@mukilteokiwanis.org
SUMMARY:Bi-weekly Morning Meeting
DESCRIPTION:We have our morning meetings the first and third Wednesdays at Tapped in Mukilteo.
URL:https://mukilteokiwanis.org/calendar/bi-weekly-morning-meeting-66/
LOCATION:Tapped Mukilteo\, 10809 Mukilteo Speedway\, Mukilteo\, Washington\, 98275
CATEGORIES:Meetings
END:VEVENT
BEGIN:VEVENT
DTSTART;TZID=America/Los_Angeles:20250729T173000
DTEND;TZID=America/Los_Angeles:20250729T173000
DTSTAMP:20260425T063112
CREATED:20250704T040136Z
LAST-MODIFIED:20250710T203511Z
UID:4048-1753810200-1753810200@mukilteokiwanis.org
SUMMARY:Social
DESCRIPTION:
URL:https://mukilteokiwanis.org/calendar/social/
LOCATION:Washington
END:VEVENT
BEGIN:VEVENT
DTSTART;TZID=America/Los_Angeles:20250722T173000
DTEND;TZID=America/Los_Angeles:20250722T183000
DTSTAMP:20260425T063112
CREATED:20241008T221944Z
LAST-MODIFIED:20250704T034407Z
UID:3843-1753205400-1753209000@mukilteokiwanis.org
SUMMARY:Bi-weekly Evening Meeting
DESCRIPTION:
URL:https://mukilteokiwanis.org/calendar/bi-weekly-morning-meeting-65/
LOCATION:Tapped Mukilteo\, 10809 Mukilteo Speedway\, Mukilteo\, Washington\, 98275
CATEGORIES:Meetings
END:VEVENT
BEGIN:VEVENT
DTSTART;TZID=America/Los_Angeles:20250719T090000
DTEND;TZID=America/Los_Angeles:20250719T113000
DTSTAMP:20260425T063112
CREATED:20250710T203401Z
LAST-MODIFIED:20250710T203542Z
UID:4066-1752915600-1752924600@mukilteokiwanis.org
SUMMARY:Speedway Clean Up
DESCRIPTION:Meet in the QFC parking lot by Jack in the Box at 8:45a.
URL:https://mukilteokiwanis.org/calendar/speedway-clean-up-7/
LOCATION:Washington
END:VEVENT
BEGIN:VEVENT
DTSTART;TZID=America/Los_Angeles:20250715T073000
DTEND;TZID=America/Los_Angeles:20250715T083000
DTSTAMP:20260425T063112
CREATED:20241008T223610Z
LAST-MODIFIED:20250703T165645Z
UID:3864-1752564600-1752568200@mukilteokiwanis.org
SUMMARY:Bi-weekly morning Meeting
DESCRIPTION:
URL:https://mukilteokiwanis.org/calendar/bi-weekly-evening-meeting-63/
LOCATION:Tapped Mukilteo\, 10809 Mukilteo Speedway\, Mukilteo\, Washington\, 98275
CATEGORIES:Meetings
END:VEVENT
BEGIN:VEVENT
DTSTART;TZID=America/Los_Angeles:20250708T173000
DTEND;TZID=America/Los_Angeles:20250708T183000
DTSTAMP:20260425T063112
CREATED:20241008T221911Z
LAST-MODIFIED:20241216T212553Z
UID:3840-1751995800-1751999400@mukilteokiwanis.org
SUMMARY:Bi-weekly Evening Meeting
DESCRIPTION:Our evening meetings are the second and fourth Wednesday of the month at 5:30 pm in the Tapped Mukilteo Annex Room.
URL:https://mukilteokiwanis.org/calendar/bi-weekly-evening-meeting-54/
LOCATION:Tapped Mukilteo\, 10809 Mukilteo Speedway\, Mukilteo\, Washington\, 98275
CATEGORIES:Meetings
END:VEVENT
BEGIN:VEVENT
DTSTART;TZID=America/Los_Angeles:20250701T073000
DTEND;TZID=America/Los_Angeles:20250701T083000
DTSTAMP:20260425T063112
CREATED:20241008T221056Z
LAST-MODIFIED:20241216T212508Z
UID:3820-1751355000-1751358600@mukilteokiwanis.org
SUMMARY:Bi-weekly Morning Meeting
DESCRIPTION:We have our morning meetings the first and third Wednesdays at Tapped in Mukilteo.
URL:https://mukilteokiwanis.org/calendar/bi-weekly-morning-meeting-55/
LOCATION:Tapped Mukilteo\, 10809 Mukilteo Speedway\, Mukilteo\, Washington\, 98275
CATEGORIES:Meetings
END:VEVENT
BEGIN:VEVENT
DTSTART;TZID=America/Los_Angeles:20250624T173000
DTEND;TZID=America/Los_Angeles:20250624T183000
DTSTAMP:20260425T063112
CREATED:20241007T220158Z
LAST-MODIFIED:20241216T212145Z
UID:3809-1750786200-1750789800@mukilteokiwanis.org
SUMMARY:Bi-weekly Evening Meeting
DESCRIPTION:Our evening meetings are the second and fourth Wednesday of the month at 5:30 pm in the Tapped Mukilteo Annex Room.
URL:https://mukilteokiwanis.org/calendar/bi-weekly-evening-meeting-53/
LOCATION:Tapped Mukilteo\, 10809 Mukilteo Speedway\, Mukilteo\, Washington\, 98275
CATEGORIES:Meetings
END:VEVENT
BEGIN:VEVENT
DTSTART;TZID=America/Los_Angeles:20250617T073000
DTEND;TZID=America/Los_Angeles:20250617T083000
DTSTAMP:20260425T063112
CREATED:20241007T215015Z
LAST-MODIFIED:20241216T212120Z
UID:3787-1750145400-1750149000@mukilteokiwanis.org
SUMMARY:Bi-weekly Morning Meeting
DESCRIPTION:We have our morning meetings the first and third Wednesdays at Tapped in Mukilteo.
URL:https://mukilteokiwanis.org/calendar/bi-weekly-morning-meeting-54/
LOCATION:Tapped Mukilteo\, 10809 Mukilteo Speedway\, Mukilteo\, Washington\, 98275
CATEGORIES:Meetings
END:VEVENT
BEGIN:VEVENT
DTSTART;TZID=America/Los_Angeles:20250610T173000
DTEND;TZID=America/Los_Angeles:20250610T183000
DTSTAMP:20260425T063112
CREATED:20241007T220131Z
LAST-MODIFIED:20241216T212100Z
UID:3807-1749576600-1749580200@mukilteokiwanis.org
SUMMARY:Bi-weekly Evening Meeting
DESCRIPTION:Our evening meetings are the second and fourth Wednesday of the month at 5:30 pm in the Tapped Mukilteo Annex Room.
URL:https://mukilteokiwanis.org/calendar/bi-weekly-evening-meeting-52/
LOCATION:Tapped Mukilteo\, 10809 Mukilteo Speedway\, Mukilteo\, Washington\, 98275
CATEGORIES:Meetings
END:VEVENT
BEGIN:VEVENT
DTSTART;TZID=America/Los_Angeles:20250603T073000
DTEND;TZID=America/Los_Angeles:20250603T083000
DTSTAMP:20260425T063112
CREATED:20241007T214938Z
LAST-MODIFIED:20241216T212035Z
UID:3785-1748935800-1748939400@mukilteokiwanis.org
SUMMARY:Bi-weekly Morning Meeting
DESCRIPTION:We have our morning meetings the first and third Wednesdays at Tapped in Mukilteo.
URL:https://mukilteokiwanis.org/calendar/bi-weekly-morning-meeting-53/
LOCATION:Tapped Mukilteo\, 10809 Mukilteo Speedway\, Mukilteo\, Washington\, 98275
CATEGORIES:Meetings
END:VEVENT
BEGIN:VEVENT
DTSTART;TZID=America/Los_Angeles:20250527T173000
DTEND;TZID=America/Los_Angeles:20250527T183000
DTSTAMP:20260425T063112
CREATED:20241007T220043Z
LAST-MODIFIED:20241216T211813Z
UID:3805-1748367000-1748370600@mukilteokiwanis.org
SUMMARY:Bi-weekly Evening Meeting
DESCRIPTION:Our evening meetings are the second and fourth Wednesday of the month at 5:30 pm in the Tapped Mukilteo Annex Room.
URL:https://mukilteokiwanis.org/calendar/bi-weekly-evening-meeting-51/
LOCATION:Tapped Mukilteo\, 10809 Mukilteo Speedway\, Mukilteo\, Washington\, 98275
CATEGORIES:Meetings
END:VEVENT
BEGIN:VEVENT
DTSTART;TZID=America/Los_Angeles:20250520T073000
DTEND;TZID=America/Los_Angeles:20250520T083000
DTSTAMP:20260425T063112
CREATED:20241007T214803Z
LAST-MODIFIED:20241216T211755Z
UID:3780-1747726200-1747729800@mukilteokiwanis.org
SUMMARY:Bi-weekly Morning Meeting
DESCRIPTION:We have our morning meetings the first and third Wednesdays at Tapped in Mukilteo.
URL:https://mukilteokiwanis.org/calendar/bi-weekly-morning-meeting-52/
LOCATION:Tapped Mukilteo\, 10809 Mukilteo Speedway\, Mukilteo\, Washington\, 98275
CATEGORIES:Meetings
END:VEVENT
BEGIN:VEVENT
DTSTART;TZID=America/Los_Angeles:20250513T173000
DTEND;TZID=America/Los_Angeles:20250513T183000
DTSTAMP:20260425T063112
CREATED:20241007T220010Z
LAST-MODIFIED:20241216T211732Z
UID:3803-1747157400-1747161000@mukilteokiwanis.org
SUMMARY:Bi-weekly Evening Meeting
DESCRIPTION:Our evening meetings are the second and fourth Wednesday of the month at 5:30 pm in the Tapped Mukilteo Annex Room.
URL:https://mukilteokiwanis.org/calendar/bi-weekly-evening-meeting-50/
LOCATION:Tapped Mukilteo\, 10809 Mukilteo Speedway\, Mukilteo\, Washington\, 98275
CATEGORIES:Meetings
END:VEVENT
BEGIN:VEVENT
DTSTART;TZID=America/Los_Angeles:20250506T073000
DTEND;TZID=America/Los_Angeles:20250506T083000
DTSTAMP:20260425T063112
CREATED:20241007T214736Z
LAST-MODIFIED:20241216T211710Z
UID:3779-1746516600-1746520200@mukilteokiwanis.org
SUMMARY:Bi-weekly Morning Meeting
DESCRIPTION:We have our morning meetings the first and third Wednesdays at Tapped in Mukilteo.
URL:https://mukilteokiwanis.org/calendar/bi-weekly-morning-meeting-51/
LOCATION:Tapped Mukilteo\, 10809 Mukilteo Speedway\, Mukilteo\, Washington\, 98275
CATEGORIES:Meetings
END:VEVENT
BEGIN:VEVENT
DTSTART;TZID=America/Los_Angeles:20250422T173000
DTEND;TZID=America/Los_Angeles:20250422T183000
DTSTAMP:20260425T063112
CREATED:20241007T215917Z
LAST-MODIFIED:20241216T211620Z
UID:3801-1745343000-1745346600@mukilteokiwanis.org
SUMMARY:Bi-weekly Evening Meeting
DESCRIPTION:Our evening meetings are the second and fourth Wednesday of the month at 5:30 pm in the Tapped Mukilteo Annex Room.
URL:https://mukilteokiwanis.org/calendar/bi-weekly-evening-meeting-49/
LOCATION:Tapped Mukilteo\, 10809 Mukilteo Speedway\, Mukilteo\, Washington\, 98275
CATEGORIES:Meetings
END:VEVENT
BEGIN:VEVENT
DTSTART;TZID=America/Los_Angeles:20250419T090000
DTEND;TZID=America/Los_Angeles:20250419T140000
DTSTAMP:20260425T063112
CREATED:20250325T010109Z
LAST-MODIFIED:20250325T010337Z
UID:4011-1745053200-1745071200@mukilteokiwanis.org
SUMMARY:Mukilteo Community Garden Clean-Up
DESCRIPTION:Come join us as we clean up and prepare the garden for the upcoming season.
URL:https://mukilteokiwanis.org/calendar/mukilteo-community-garden-clean-up/
LOCATION:Washington
END:VEVENT
BEGIN:VEVENT
DTSTART;TZID=America/Los_Angeles:20250415T073000
DTEND;TZID=America/Los_Angeles:20250415T083000
DTSTAMP:20260425T063112
CREATED:20241007T214156Z
LAST-MODIFIED:20241216T211555Z
UID:3776-1744702200-1744705800@mukilteokiwanis.org
SUMMARY:Bi-weekly Morning Meeting
DESCRIPTION:We have our morning meetings the first and third Wednesdays at Tapped in Mukilteo.
URL:https://mukilteokiwanis.org/calendar/bi-weekly-morning-meeting-44/
LOCATION:Tapped Mukilteo\, 10809 Mukilteo Speedway\, Mukilteo\, Washington\, 98275
CATEGORIES:Meetings
END:VEVENT
BEGIN:VEVENT
DTSTART;TZID=America/Los_Angeles:20250408T173000
DTEND;TZID=America/Los_Angeles:20250408T183000
DTSTAMP:20260425T063112
CREATED:20241007T215804Z
LAST-MODIFIED:20241216T211533Z
UID:3799-1744133400-1744137000@mukilteokiwanis.org
SUMMARY:Bi-weekly Evening Meeting
DESCRIPTION:Our evening meetings are the second and fourth Wednesday of the month at 5:30 pm in the Tapped Mukilteo Annex Room.
URL:https://mukilteokiwanis.org/calendar/bi-weekly-evening-meeting-48/
LOCATION:Tapped Mukilteo\, 10809 Mukilteo Speedway\, Mukilteo\, Washington\, 98275
CATEGORIES:Meetings
END:VEVENT
BEGIN:VEVENT
DTSTART;TZID=America/Los_Angeles:20250401T073000
DTEND;TZID=America/Los_Angeles:20250401T083000
DTSTAMP:20260425T063112
CREATED:20241216T211446Z
LAST-MODIFIED:20241216T211447Z
UID:3915-1743492600-1743496200@mukilteokiwanis.org
SUMMARY:Bi-weekly Morning Meeting
DESCRIPTION:We have our morning meetings the first and third Wednesdays at Tapped in Mukilteo.
URL:https://mukilteokiwanis.org/calendar/bi-weekly-morning-meeting-68/
LOCATION:Tapped Mukilteo\, 10809 Mukilteo Speedway\, Mukilteo\, Washington\, 98275
CATEGORIES:Meetings
END:VEVENT
BEGIN:VEVENT
DTSTART;TZID=America/Los_Angeles:20250325T173000
DTEND;TZID=America/Los_Angeles:20250325T183000
DTSTAMP:20260425T063112
CREATED:20241008T223702Z
LAST-MODIFIED:20241216T210610Z
UID:3866-1742923800-1742927400@mukilteokiwanis.org
SUMMARY:Bi-weekly Evening Meeting
DESCRIPTION:Our evening meetings are the second and fourth Wednesday of the month at 5:30 pm in the Tapped Mukilteo Annex Room.
URL:https://mukilteokiwanis.org/calendar/bi-weekly-evening-meeting-64/
LOCATION:Tapped Mukilteo\, 10809 Mukilteo Speedway\, Mukilteo\, Washington\, 98275
CATEGORIES:Meetings
END:VEVENT
END:VCALENDAR