BEGIN:VCALENDAR
VERSION:2.0
PRODID:-//Mukilteo Kiwanis - ECPv6.15.20//NONSGML v1.0//EN
CALSCALE:GREGORIAN
METHOD:PUBLISH
X-ORIGINAL-URL:https://mukilteokiwanis.org
X-WR-CALDESC:Events for Mukilteo Kiwanis
REFRESH-INTERVAL;VALUE=DURATION:PT1H
X-Robots-Tag:noindex
X-PUBLISHED-TTL:PT1H
BEGIN:VTIMEZONE
TZID:America/Los_Angeles
BEGIN:DAYLIGHT
TZOFFSETFROM:-0800
TZOFFSETTO:-0700
TZNAME:PDT
DTSTART:20240310T100000
END:DAYLIGHT
BEGIN:STANDARD
TZOFFSETFROM:-0700
TZOFFSETTO:-0800
TZNAME:PST
DTSTART:20241103T090000
END:STANDARD
BEGIN:DAYLIGHT
TZOFFSETFROM:-0800
TZOFFSETTO:-0700
TZNAME:PDT
DTSTART:20250309T100000
END:DAYLIGHT
BEGIN:STANDARD
TZOFFSETFROM:-0700
TZOFFSETTO:-0800
TZNAME:PST
DTSTART:20251102T090000
END:STANDARD
BEGIN:DAYLIGHT
TZOFFSETFROM:-0800
TZOFFSETTO:-0700
TZNAME:PDT
DTSTART:20260308T100000
END:DAYLIGHT
BEGIN:STANDARD
TZOFFSETFROM:-0700
TZOFFSETTO:-0800
TZNAME:PST
DTSTART:20261101T090000
END:STANDARD
END:VTIMEZONE
BEGIN:VEVENT
DTSTART;TZID=America/Los_Angeles:20251007T073000
DTEND;TZID=America/Los_Angeles:20251007T083000
DTSTAMP:20260425T162202
CREATED:20241008T221457Z
LAST-MODIFIED:20241216T213815Z
UID:3828-1759822200-1759825800@mukilteokiwanis.org
SUMMARY:Bi-weekly Morning Meeting
DESCRIPTION:We have our morning meetings the first and third Wednesdays at Tapped in Mukilteo.
URL:https://mukilteokiwanis.org/calendar/bi-weekly-morning-meeting-59/
LOCATION:Tapped Mukilteo\, 10809 Mukilteo Speedway\, Mukilteo\, Washington\, 98275
CATEGORIES:Meetings
END:VEVENT
BEGIN:VEVENT
DTSTART;TZID=America/Los_Angeles:20251014T173000
DTEND;TZID=America/Los_Angeles:20251014T183000
DTSTAMP:20260425T162202
CREATED:20241216T214247Z
LAST-MODIFIED:20241216T214248Z
UID:3922-1760463000-1760466600@mukilteokiwanis.org
SUMMARY:Bi-weekly Evening Meeting
DESCRIPTION:Our evening meetings are the second and fourth Wednesday of the month at 5:30 pm in the Tapped Mukilteo Annex Room.
URL:https://mukilteokiwanis.org/calendar/bi-weekly-evening-meeting-59/
LOCATION:Tapped Mukilteo\, 10809 Mukilteo Speedway\, Mukilteo\, Washington\, 98275
CATEGORIES:Meetings
END:VEVENT
BEGIN:VEVENT
DTSTART;TZID=America/Los_Angeles:20251021T073000
DTEND;TZID=America/Los_Angeles:20251021T083000
DTSTAMP:20260425T162202
CREATED:20241008T221529Z
LAST-MODIFIED:20241216T213904Z
UID:3830-1761031800-1761035400@mukilteokiwanis.org
SUMMARY:Bi-weekly Morning Meeting
DESCRIPTION:We have our morning meetings the first and third Wednesdays at Tapped in Mukilteo.
URL:https://mukilteokiwanis.org/calendar/bi-weekly-morning-meeting-60/
LOCATION:Tapped Mukilteo\, 10809 Mukilteo Speedway\, Mukilteo\, Washington\, 98275
CATEGORIES:Meetings
END:VEVENT
BEGIN:VEVENT
DTSTART;TZID=America/Los_Angeles:20251028T173000
DTEND;TZID=America/Los_Angeles:20251028T183000
DTSTAMP:20260425T162202
CREATED:20241008T222743Z
LAST-MODIFIED:20241216T214026Z
UID:3857-1761672600-1761676200@mukilteokiwanis.org
SUMMARY:Bi-weekly Evening Meeting
DESCRIPTION:Our evening meetings are the second and fourth Wednesday of the month at 5:30 pm in the Tapped Mukilteo Annex Room.
URL:https://mukilteokiwanis.org/calendar/bi-weekly-evening-meeting-60/
LOCATION:Tapped Mukilteo\, 10809 Mukilteo Speedway\, Mukilteo\, Washington\, 98275
CATEGORIES:Meetings
END:VEVENT
END:VCALENDAR