BEGIN:VCALENDAR
VERSION:2.0
PRODID:-//Mukilteo Kiwanis - ECPv6.15.20//NONSGML v1.0//EN
CALSCALE:GREGORIAN
METHOD:PUBLISH
X-WR-CALNAME:Mukilteo Kiwanis
X-ORIGINAL-URL:https://mukilteokiwanis.org
X-WR-CALDESC:Events for Mukilteo Kiwanis
REFRESH-INTERVAL;VALUE=DURATION:PT1H
X-Robots-Tag:noindex
X-PUBLISHED-TTL:PT1H
BEGIN:VTIMEZONE
TZID:America/Los_Angeles
BEGIN:DAYLIGHT
TZOFFSETFROM:-0800
TZOFFSETTO:-0700
TZNAME:PDT
DTSTART:20250309T100000
END:DAYLIGHT
BEGIN:STANDARD
TZOFFSETFROM:-0700
TZOFFSETTO:-0800
TZNAME:PST
DTSTART:20251102T090000
END:STANDARD
BEGIN:DAYLIGHT
TZOFFSETFROM:-0800
TZOFFSETTO:-0700
TZNAME:PDT
DTSTART:20260308T100000
END:DAYLIGHT
BEGIN:STANDARD
TZOFFSETFROM:-0700
TZOFFSETTO:-0800
TZNAME:PST
DTSTART:20261101T090000
END:STANDARD
BEGIN:DAYLIGHT
TZOFFSETFROM:-0800
TZOFFSETTO:-0700
TZNAME:PDT
DTSTART:20270314T100000
END:DAYLIGHT
BEGIN:STANDARD
TZOFFSETFROM:-0700
TZOFFSETTO:-0800
TZNAME:PST
DTSTART:20271107T090000
END:STANDARD
END:VTIMEZONE
BEGIN:VEVENT
DTSTART;TZID=America/Los_Angeles:20260707T073000
DTEND;TZID=America/Los_Angeles:20260707T083000
DTSTAMP:20260424T190720
CREATED:20251020T192112Z
LAST-MODIFIED:20251020T192113Z
UID:4150-1783409400-1783413000@mukilteokiwanis.org
SUMMARY:Bi-weekly Morning Meeting
DESCRIPTION:We have our morning meetings the first and third Tuesdays at Tapped in Mukilteo.
URL:https://mukilteokiwanis.org/calendar/bi-weekly-morning-meeting-78/
LOCATION:Tapped Mukilteo\, 10809 Mukilteo Speedway\, Mukilteo\, Washington\, 98275
CATEGORIES:Meetings
END:VEVENT
BEGIN:VEVENT
DTSTART;TZID=America/Los_Angeles:20260711T084500
DTEND;TZID=America/Los_Angeles:20260711T110000
DTSTAMP:20260424T190720
CREATED:20250927T211935Z
LAST-MODIFIED:20250927T211942Z
UID:4105-1783759500-1783767600@mukilteokiwanis.org
SUMMARY:Speedway Clean-up
DESCRIPTION:
URL:https://mukilteokiwanis.org/calendar/speedway-clean-up-9/
END:VEVENT
BEGIN:VEVENT
DTSTART;TZID=America/Los_Angeles:20260714T173000
DTEND;TZID=America/Los_Angeles:20260714T183000
DTSTAMP:20260424T190720
CREATED:20251020T195413Z
LAST-MODIFIED:20251020T195415Z
UID:4200-1784050200-1784053800@mukilteokiwanis.org
SUMMARY:Bi-weekly Evening Meeting
DESCRIPTION:Our evening meetings are the second and fourth Tuesdays of the month at 5:30 pm in the Tapped Mukilteo Annex Room.
URL:https://mukilteokiwanis.org/calendar/bi-weekly-evening-meeting-74/
LOCATION:Tapped Mukilteo\, 10809 Mukilteo Speedway\, Mukilteo\, Washington\, 98275
CATEGORIES:Meetings
END:VEVENT
BEGIN:VEVENT
DTSTART;TZID=America/Los_Angeles:20260721T073000
DTEND;TZID=America/Los_Angeles:20260721T083000
DTSTAMP:20260424T190720
CREATED:20251020T191559Z
LAST-MODIFIED:20251020T192154Z
UID:4142-1784619000-1784622600@mukilteokiwanis.org
SUMMARY:Bi-weekly Morning Meeting
DESCRIPTION:We have our morning meetings the first and third Tuesdays at Tapped in Mukilteo.
URL:https://mukilteokiwanis.org/calendar/bi-weekly-morning-meeting-74/
LOCATION:Tapped Mukilteo\, 10809 Mukilteo Speedway\, Mukilteo\, Washington\, 98275
CATEGORIES:Meetings
END:VEVENT
BEGIN:VEVENT
DTSTART;TZID=America/Los_Angeles:20260728T173000
DTEND;TZID=America/Los_Angeles:20260728T183000
DTSTAMP:20260424T190720
CREATED:20251020T195447Z
LAST-MODIFIED:20251020T195519Z
UID:4202-1785259800-1785263400@mukilteokiwanis.org
SUMMARY:Bi-weekly Evening Meeting
DESCRIPTION:Our evening meetings are the second and fourth Tuesdays of the month at 5:30 pm in the Tapped Mukilteo Annex Room.
URL:https://mukilteokiwanis.org/calendar/bi-weekly-evening-meeting-75/
LOCATION:Tapped Mukilteo\, 10809 Mukilteo Speedway\, Mukilteo\, Washington\, 98275
CATEGORIES:Meetings
END:VEVENT
END:VCALENDAR